BEGIN:VCALENDAR
VERSION:2.0
PRODID:icalendar-ruby
CALSCALE:GREGORIAN
METHOD:PUBLISH
BEGIN:VEVENT
DTSTAMP:20260425T025621Z
UID:56-1398786@redeemerpittsburgh.org
DTSTART:20261102T140000Z
DTEND:20261103T170000Z
CLASS:PUBLIC
CREATED:20260424T220909
DESCRIPTION:
LAST-MODIFIED:20260424T220909
LOCATION:Parish Hall
SUMMARY:Womens AA
URL;VALUE=URI:https://www.redeemerpittsburgh.org/events/womens-aa/2026-11-0
 2
END:VEVENT
END:VCALENDAR
