BEGIN:VCALENDAR
VERSION:2.0
PRODID:icalendar-ruby
CALSCALE:GREGORIAN
METHOD:PUBLISH
BEGIN:VEVENT
DTSTAMP:20260425T012428Z
UID:56-1397916@redeemerpittsburgh.org
DTSTART:20261026T130000Z
DTEND:20261027T160000Z
CLASS:PUBLIC
CREATED:20260424T191958
DESCRIPTION:
LAST-MODIFIED:20260424T191958
LOCATION:Parish Hall
SUMMARY:Womens AA
URL;VALUE=URI:https://www.redeemerpittsburgh.org/events/womens-aa/2026-10-2
 6
END:VEVENT
END:VCALENDAR
