BEGIN:VCALENDAR
VERSION:2.0
PRODID:icalendar-ruby
CALSCALE:GREGORIAN
METHOD:PUBLISH
BEGIN:VEVENT
DTSTAMP:20260424T223047Z
UID:56-1397045@redeemerpittsburgh.org
DTSTART:20261012T130000Z
DTEND:20261013T160000Z
CLASS:PUBLIC
CREATED:20260424T163211
DESCRIPTION:
LAST-MODIFIED:20260424T163211
LOCATION:Parish Hall
SUMMARY:Womens AA
URL;VALUE=URI:https://www.redeemerpittsburgh.org/events/womens-aa/2026-10-1
 2
END:VEVENT
END:VCALENDAR
