BEGIN:VCALENDAR
VERSION:2.0
PRODID:icalendar-ruby
CALSCALE:GREGORIAN
METHOD:PUBLISH
BEGIN:VEVENT
DTSTAMP:20260424T204954Z
UID:56-1397044@redeemerpittsburgh.org
DTSTART:20261005T130000Z
DTEND:20261006T160000Z
CLASS:PUBLIC
CREATED:20260424T163211
DESCRIPTION:
LAST-MODIFIED:20260424T163211
LOCATION:Parish Hall
SUMMARY:Womens AA
URL;VALUE=URI:https://www.redeemerpittsburgh.org/events/womens-aa/2026-10-0
 5
END:VEVENT
END:VCALENDAR
