BEGIN:VCALENDAR
VERSION:2.0
PRODID:icalendar-ruby
CALSCALE:GREGORIAN
METHOD:PUBLISH
BEGIN:VEVENT
DTSTAMP:20260424T174929Z
UID:56-1396173@redeemerpittsburgh.org
DTSTART:20260921T130000Z
DTEND:20260922T160000Z
CLASS:PUBLIC
CREATED:20260424T134454
DESCRIPTION:
LAST-MODIFIED:20260424T134454
LOCATION:Parish Hall
SUMMARY:Womens AA
URL;VALUE=URI:https://www.redeemerpittsburgh.org/events/womens-aa/2026-09-2
 1
END:VEVENT
END:VCALENDAR
