BEGIN:VCALENDAR
VERSION:2.0
PRODID:icalendar-ruby
CALSCALE:GREGORIAN
METHOD:PUBLISH
BEGIN:VEVENT
DTSTAMP:20260423T082912Z
UID:55-1388284@redeemerpittsburgh.org
DTSTART:20261012T220000Z
DTEND:20261013T010000Z
CLASS:PUBLIC
CREATED:20260422T223414
DESCRIPTION:
LAST-MODIFIED:20260422T223414
LOCATION:Parish Hall
SUMMARY:Swartz T'ai Chi
URL;VALUE=URI:https://www.redeemerpittsburgh.org/events/swartz-tai-chi/2026
 -10-12
END:VEVENT
END:VCALENDAR
