BEGIN:VCALENDAR
VERSION:2.0
PRODID:icalendar-ruby
CALSCALE:GREGORIAN
METHOD:PUBLISH
BEGIN:VEVENT
DTSTAMP:20260421T002337Z
UID:55-1377068@redeemerpittsburgh.org
DTSTART:20261005T220000Z
DTEND:20261006T010000Z
CLASS:PUBLIC
CREATED:20260420T180912
DESCRIPTION:
LAST-MODIFIED:20260420T180912
LOCATION:Parish Hall
SUMMARY:Swartz T'ai Chi
URL;VALUE=URI:https://www.redeemerpittsburgh.org/events/swartz-tai-chi/2026
 -10-05
END:VEVENT
END:VCALENDAR
