BEGIN:VCALENDAR
VERSION:2.0
PRODID:icalendar-ruby
CALSCALE:GREGORIAN
METHOD:PUBLISH
BEGIN:VEVENT
DTSTAMP:20260420T204059Z
UID:55-1376207@redeemerpittsburgh.org
DTSTART:20260921T220000Z
DTEND:20260922T010000Z
CLASS:PUBLIC
CREATED:20260420T153313
DESCRIPTION:
LAST-MODIFIED:20260420T153313
LOCATION:Parish Hall
SUMMARY:Swartz T'ai Chi
URL;VALUE=URI:https://www.redeemerpittsburgh.org/events/swartz-tai-chi/2026
 -09-21
END:VEVENT
END:VCALENDAR
