BEGIN:VCALENDAR
VERSION:2.0
PRODID:icalendar-ruby
CALSCALE:GREGORIAN
METHOD:PUBLISH
BEGIN:VEVENT
DTSTAMP:20260425T022002Z
UID:62-1399084@redeemerpittsburgh.org
DTSTART:20261023T220000Z
DTEND:20261024T000000Z
CLASS:PUBLIC
CREATED:20260424T220909
DESCRIPTION:
LAST-MODIFIED:20260424T220909
LOCATION:Parish Hall\, Library
SUMMARY:New Hope
URL;VALUE=URI:https://www.redeemerpittsburgh.org/events/new-hope/2026-10-23
END:VEVENT
END:VCALENDAR
