BEGIN:VCALENDAR
VERSION:2.0
PRODID:icalendar-ruby
CALSCALE:GREGORIAN
METHOD:PUBLISH
BEGIN:VEVENT
DTSTAMP:20260425T004213Z
UID:62-1398214@redeemerpittsburgh.org
DTSTART:20261016T220000Z
DTEND:20261017T000000Z
CLASS:PUBLIC
CREATED:20260424T191959
DESCRIPTION:
LAST-MODIFIED:20260424T191959
LOCATION:Parish Hall\, Library
SUMMARY:New Hope
URL;VALUE=URI:https://www.redeemerpittsburgh.org/events/new-hope/2026-10-16
END:VEVENT
END:VCALENDAR
