BEGIN:VCALENDAR
VERSION:2.0
PRODID:icalendar-ruby
CALSCALE:GREGORIAN
METHOD:PUBLISH
BEGIN:VEVENT
DTSTAMP:20260424T212020Z
UID:62-1397343@redeemerpittsburgh.org
DTSTART:20261002T220000Z
DTEND:20261003T000000Z
CLASS:PUBLIC
CREATED:20260424T163212
DESCRIPTION:
LAST-MODIFIED:20260424T163212
LOCATION:Parish Hall\, Library
SUMMARY:New Hope
URL;VALUE=URI:https://www.redeemerpittsburgh.org/events/new-hope/2026-10-02
END:VEVENT
END:VCALENDAR
