BEGIN:VCALENDAR
VERSION:2.0
PRODID:icalendar-ruby
CALSCALE:GREGORIAN
METHOD:PUBLISH
BEGIN:VEVENT
DTSTAMP:20260424T193726Z
UID:62-1396473@redeemerpittsburgh.org
DTSTART:20260925T220000Z
DTEND:20260926T000000Z
CLASS:PUBLIC
CREATED:20260424T134454
DESCRIPTION:
LAST-MODIFIED:20260424T134454
LOCATION:Parish Hall\, Library
SUMMARY:New Hope
URL;VALUE=URI:https://www.redeemerpittsburgh.org/events/new-hope/2026-09-25
END:VEVENT
END:VCALENDAR
