BEGIN:VCALENDAR
VERSION:2.0
PRODID:icalendar-ruby
CALSCALE:GREGORIAN
METHOD:PUBLISH
BEGIN:VEVENT
DTSTAMP:20260423T172125Z
UID:58-1390173@redeemerpittsburgh.org
DTSTART:20261103T230000Z
DTEND:20261104T020000Z
CLASS:PUBLIC
CREATED:20260423T105721
DESCRIPTION:1st\,3rd\, 4th\, 5th Tuesday
LAST-MODIFIED:20260423T105721
LOCATION:Parish Hall
SUMMARY:Laughing Rivers Buddhists
URL;VALUE=URI:https://www.redeemerpittsburgh.org/events/laughing-rivers-bud
 dhists/2026-11-03
END:VEVENT
END:VCALENDAR
