BEGIN:VCALENDAR
VERSION:2.0
PRODID:icalendar-ruby
CALSCALE:GREGORIAN
METHOD:PUBLISH
BEGIN:VEVENT
DTSTAMP:20260423T103157Z
UID:58-1388433@redeemerpittsburgh.org
DTSTART:20261006T220000Z
DTEND:20261007T010000Z
CLASS:PUBLIC
CREATED:20260422T223414
DESCRIPTION:1st\,3rd\, 4th\, 5th Tuesday
LAST-MODIFIED:20260422T223414
LOCATION:Parish Hall
SUMMARY:Laughing Rivers Buddhists
URL;VALUE=URI:https://www.redeemerpittsburgh.org/events/laughing-rivers-bud
 dhists/2026-10-06
END:VEVENT
END:VCALENDAR
