BEGIN:VCALENDAR
VERSION:2.0
PRODID:icalendar-ruby
CALSCALE:GREGORIAN
METHOD:PUBLISH
BEGIN:VEVENT
DTSTAMP:20260423T082410Z
UID:58-1388432@redeemerpittsburgh.org
DTSTART:20260929T220000Z
DTEND:20260930T010000Z
CLASS:PUBLIC
CREATED:20260422T223414
DESCRIPTION:1st\,3rd\, 4th\, 5th Tuesday
LAST-MODIFIED:20260422T223414
LOCATION:Parish Hall
SUMMARY:Laughing Rivers Buddhists
URL;VALUE=URI:https://www.redeemerpittsburgh.org/events/laughing-rivers-bud
 dhists/2026-09-29
END:VEVENT
END:VCALENDAR
