BEGIN:VCALENDAR
VERSION:2.0
PRODID:icalendar-ruby
CALSCALE:GREGORIAN
METHOD:PUBLISH
BEGIN:VEVENT
DTSTAMP:20260420T233807Z
UID:58-1377214@redeemerpittsburgh.org
DTSTART:20260922T220000Z
DTEND:20260923T010000Z
CLASS:PUBLIC
CREATED:20260420T180912
DESCRIPTION:1st\,3rd\, 4th\, 5th Tuesday
LAST-MODIFIED:20260420T180912
LOCATION:Parish Hall
SUMMARY:Laughing Rivers Buddhists
URL;VALUE=URI:https://www.redeemerpittsburgh.org/events/laughing-rivers-bud
 dhists/2026-09-22
END:VEVENT
END:VCALENDAR
